BEGIN:VCALENDAR
VERSION:2.0
PRODID:-//Martha &amp; Mary - ECPv6.1.2.2//NONSGML v1.0//EN
CALSCALE:GREGORIAN
METHOD:PUBLISH
X-WR-CALNAME:Martha &amp; Mary
X-ORIGINAL-URL:https://www.marthaandmary.org
X-WR-CALDESC:Events for Martha &amp; Mary
REFRESH-INTERVAL;VALUE=DURATION:PT1H
X-Robots-Tag:noindex
X-PUBLISHED-TTL:PT1H
BEGIN:VTIMEZONE
TZID:UTC
BEGIN:STANDARD
TZOFFSETFROM:+0000
TZOFFSETTO:+0000
TZNAME:UTC
DTSTART:20160101T000000
END:STANDARD
END:VTIMEZONE
BEGIN:VEVENT
DTSTART;TZID=UTC:20170513T173000
DTEND;TZID=UTC:20170513T213000
DTSTAMP:20230821T001514
CREATED:20170426T183453Z
LAST-MODIFIED:20170426T183453Z
UID:1751-1494696600-1494711000@www.marthaandmary.org
SUMMARY:2017 Generations of Care Gala
DESCRIPTION:Join us for dinner\, entertainment and silent & live auctions at our biggest fundraiser of the year.  Register today!
URL:https://www.marthaandmary.org/event/2017-generations-care-gala
ATTACH;FMTTYPE=image/jpeg:https://www.marthaandmary.org/wp-content/uploads/2017/02/FINALwebsite-slider-copy.jpg
END:VEVENT
BEGIN:VEVENT
DTSTART;TZID=UTC:20161118T090000
DTEND;TZID=UTC:20161118T170000
DTSTAMP:20230821T001514
CREATED:20161028T205014Z
LAST-MODIFIED:20161028T213932Z
UID:1333-1479459600-1479488400@www.marthaandmary.org
SUMMARY:White Elephant Extravaganza
DESCRIPTION:Our Volunteer Auxiliary’s much anticipated annual White Elephant Extravaganza will be held at our Health and Rehab Center in Poulsbo on Friday\, November 18 and Saturday\, November 19 from 9:00am – 5:00pm.   Find something special at this fund-raising event with all proceeds benefiting our quality of life programming. \nGently used donation items for this event are now being accepted with the exception of clothing\, large furniture items and exercise equipment.  Contact Tracie Walthall\, Director of Resident Life Services for more information.
URL:https://www.marthaandmary.org/event/eventwhite-elephant-extravaganza
LOCATION:Martha & Mary Health and Rehab Center\, Poulsbo\, WA
ATTACH;FMTTYPE=image/png:https://www.marthaandmary.org/wp-content/uploads/2016/10/white-elephant.png
END:VEVENT
BEGIN:VEVENT
DTSTART;TZID=UTC:20161103T180000
DTEND;TZID=UTC:20161103T200000
DTSTAMP:20230821T001514
CREATED:20160921T202443Z
LAST-MODIFIED:20160928T160938Z
UID:1274-1478196000-1478203200@www.marthaandmary.org
SUMMARY:Donor Appreciation & Philanthropy Award Reception
DESCRIPTION:In appreciation of your generous support\, Martha & Mary’s Board of Trustees and Senior Leadership cordially invite you to our annual Donor Reception & Philanthropy Awards Reception. \nPlease join us we gather with friends and family to celebrate your generosity and honor the Langer Smith Family and Kitsap Bank with the Martha & Mary 2016 Philanthropy Award at the Village Green Community Center in Kingston. \nPlease RSVP at 360.626.7879 or at events@104.197.158.42 by October 28\, 2016. \n—- \nNeed a ride to attend?  Leave the driving to us!  Ride the Martha & Mary bus to this event from either Bay Vista Commons in Bremerton or from Martha & Mary Health and Rehab Center in Poulsbo.  Contact us to reserve your seat and for additional details at 360.626.7879 or at events@104.197.158.42
URL:https://www.marthaandmary.org/event/eventeventeventeventeventeventeventeventphilanthropy-award-donor-recognition-reception
LOCATION:Village Green Community Center\, Kingston\, WA
ATTACH;FMTTYPE=image/jpeg:https://www.marthaandmary.org/wp-content/uploads/2016/09/langer-smith-family.jpg
END:VEVENT
BEGIN:VEVENT
DTSTART;TZID=UTC:20161014T173000
DTEND;TZID=UTC:20161014T193000
DTSTAMP:20230821T001514
CREATED:20160718T182618Z
LAST-MODIFIED:20160921T203224Z
UID:1128-1476466200-1476473400@www.marthaandmary.org
SUMMARY:Family Table
DESCRIPTION: 
URL:https://www.marthaandmary.org/event/eventeventeventeventeventeventfamily-table-2
LOCATION:Martha & Mary Health and Rehab Center\, Poulsbo\, WA
ATTACH;FMTTYPE=image/png:https://www.marthaandmary.org/wp-content/uploads/2016/07/Family-Table-Logo.png
END:VEVENT
BEGIN:VEVENT
DTSTART;TZID=UTC:20160910T170000
DTEND;TZID=UTC:20160910T200000
DTSTAMP:20230821T001514
CREATED:20160211T054756Z
LAST-MODIFIED:20160718T234957Z
UID:736-1473526800-1473537600@www.marthaandmary.org
SUMMARY:125th Anniversary Open House & Art Show
DESCRIPTION:You’re invited to come celebrate 125 years of caring with us at our Health and Rehab Center in Poulsbo (19160 Front St. NE).  View special art exhibits featuring works by our children and seniors.  See art therapy in-action\, tour our beautiful campus\, find out what is new at Martha & Mary and enjoy refreshments for the entire family!  This event is FREE and open to the public. \n 
URL:https://www.marthaandmary.org/event/eventeventopen-house-125th-celebration
LOCATION:Martha & Mary Health and Rehab Center in Poulsbo
CATEGORIES:125
ATTACH;FMTTYPE=image/jpeg:https://www.marthaandmary.org/wp-content/uploads/2016/07/Slider-125th-Open-House-July-2016.jpg
END:VEVENT
BEGIN:VEVENT
DTSTART;TZID=UTC:20160721T173000
DTEND;TZID=UTC:20160721T200000
DTSTAMP:20230821T001514
CREATED:20160718T181712Z
LAST-MODIFIED:20160719T173733Z
UID:1126-1469122200-1469131200@www.marthaandmary.org
SUMMARY:Family Table
DESCRIPTION:
URL:https://www.marthaandmary.org/event/eventeventfamily-table
ATTACH;FMTTYPE=image/png:https://www.marthaandmary.org/wp-content/uploads/2016/07/Family-Table-Logo.png
END:VEVENT
BEGIN:VEVENT
DTSTART;TZID=UTC:20160615T180000
DTEND;TZID=UTC:20160615T193000
DTSTAMP:20230821T001514
CREATED:20160518T193419Z
LAST-MODIFIED:20160518T193432Z
UID:1079-1466013600-1466019000@www.marthaandmary.org
SUMMARY:2016 Martha & Mary Health & Wellness Lecture
DESCRIPTION:Stacee Kessinger\, MD presents “Joint Surgery:  What to Know\, How to Prepare and Recovery Expectations” at Martha & Mary Health and Rehab Center in Poulsbo.  This is a FREE event\, open to the public.  No RSVP required.
URL:https://www.marthaandmary.org/event/event2016-health-wellness-lecture
CATEGORIES:Health
END:VEVENT
BEGIN:VEVENT
DTSTART;TZID=UTC:20160530T080000
DTEND;TZID=UTC:20160530T170000
DTSTAMP:20230821T001514
CREATED:20160121T185645Z
LAST-MODIFIED:20160502T233656Z
UID:525-1464595200-1464627600@www.marthaandmary.org
SUMMARY:Martha & Mary's 125th Birthday
DESCRIPTION:Not very many organizations get to see their 125th birthday\, but we at Martha & Mary get to celebrate ours.
URL:https://www.marthaandmary.org/event/125th-birthday
CATEGORIES:125
END:VEVENT
BEGIN:VEVENT
DTSTART;VALUE=DATE:20160530
DTEND;VALUE=DATE:20160531
DTSTAMP:20230821T001514
CREATED:20160518T193114Z
LAST-MODIFIED:20160518T193114Z
UID:1078-1464566400-1464652799@www.marthaandmary.org
SUMMARY:Martha & Mary's 125th Anniversary Day
DESCRIPTION:
URL:https://www.marthaandmary.org/event/martha-marys-125th-anniversary-day
END:VEVENT
BEGIN:VEVENT
DTSTART;TZID=UTC:20160521T140000
DTEND;TZID=UTC:20160521T160000
DTSTAMP:20230821T001514
CREATED:20160518T190911Z
LAST-MODIFIED:20160518T193012Z
UID:1077-1463839200-1463846400@www.marthaandmary.org
SUMMARY:Viking Fest Parade 2016
DESCRIPTION:Martha & Mary is leading this year’s Viking Fest Parade at 2:00pm.
URL:https://www.marthaandmary.org/event/eventviking-fest-parade-2016
CATEGORIES:125
END:VEVENT
BEGIN:VEVENT
DTSTART;TZID=UTC:20160518T090000
DTEND;TZID=UTC:20160518T133000
DTSTAMP:20230821T001514
CREATED:20160502T233513Z
LAST-MODIFIED:20160503T165119Z
UID:1076-1463562000-1463578200@www.marthaandmary.org
SUMMARY:25th Annual Older Americans Conference
DESCRIPTION:Wednesday\, May 18 at 9:00am – 1:30pm \nElks Lodge / 4131 Pine Road NE\, Bremerton \nThis FREE event’s theme is “Your Silver Lining – Blaze a Trail” and the keynote speaker is Tony Ventrella.  RSVP at 360.337.5700 or 1.800.562.6418
URL:https://www.marthaandmary.org/event/25th-annual-older-americans-conference
CATEGORIES:125
END:VEVENT
END:VCALENDAR